BEGIN:VCALENDAR
VERSION:2.0
PRODID:-//213.186.33.4//NONSGML kigkonsult.se iCalcreator 2.20//
CALSCALE:GREGORIAN
METHOD:PUBLISH
X-WR-TIMEZONE:Europe/Paris
BEGIN:VEVENT
UID:event861@GUMS Paris
DTSTAMP:20260421T082342Z
CATEGORIES:Sorties Falaises
DESCRIPTION:Rassemblement Nouvel An\nCatégorie: Sorties Falaises\nLien: htt
 ps://www.gumsparis.asso.fr/index.php?option=com_jem&view=event&id=861:rass
 emblement-nouvel-an\n
DTSTART;VALUE=DATE:20221227
DTEND;VALUE=DATE:20230103
SUMMARY:Rassemblement Nouvel An
URL:https://www.gumsparis.asso.fr/index.php?option=com_jem&view=event&id=86
 1:rassemblement-nouvel-an
END:VEVENT
END:VCALENDAR
