BEGIN:VCALENDAR
VERSION:2.0
PRODID:-//213.186.33.4//NONSGML kigkonsult.se iCalcreator 2.20//
CALSCALE:GREGORIAN
METHOD:PUBLISH
X-WR-TIMEZONE:Europe/Paris
BEGIN:VEVENT
UID:event863@GUMS Paris
DTSTAMP:20260421T080939Z
CATEGORIES:Sorties Falaises
DESCRIPTION:Sortie Ascension\nCatégorie: Sorties Falaises\nLien: https://ww
 w.gumsparis.asso.fr/index.php?option=com_jem&view=event&id=863:sortie-asce
 nsion\n
DTSTART;VALUE=DATE:20230518
DTEND;VALUE=DATE:20230522
SUMMARY:Sortie Ascension
URL:https://www.gumsparis.asso.fr/index.php?option=com_jem&view=event&id=86
 3:sortie-ascension
END:VEVENT
END:VCALENDAR
