BEGIN:VCALENDAR
VERSION:2.0
PRODID:-//213.186.33.4//NONSGML kigkonsult.se iCalcreator 2.20//
CALSCALE:GREGORIAN
METHOD:PUBLISH
X-WR-TIMEZONE:Europe/Paris
BEGIN:VEVENT
UID:event865@GUMS Paris
DTSTAMP:20260421T084203Z
CATEGORIES:Sorties randonnée
DESCRIPTION:les coteaux du grand Morin au départ de Villiers\nCatégorie: So
 rties randonnée\nLien: https://www.gumsparis.asso.fr/index.php?option=com_
 jem&view=event&id=865:les-coteaux-du-grand-morin-au-depart-de-villiers\n
DTSTART;VALUE=DATE:20221016
DTEND;VALUE=DATE:20221017
SUMMARY:les coteaux du grand Morin au départ de Villiers
URL:https://www.gumsparis.asso.fr/index.php?option=com_jem&view=event&id=86
 5:les-coteaux-du-grand-morin-au-depart-de-villiers
END:VEVENT
END:VCALENDAR
