BEGIN:VCALENDAR
VERSION:2.0
PRODID:-//213.186.33.4//NONSGML kigkonsult.se iCalcreator 2.20//
CALSCALE:GREGORIAN
METHOD:PUBLISH
X-WR-TIMEZONE:Europe/Paris
BEGIN:VEVENT
UID:event870@GUMS Paris
DTSTAMP:20260421T082342Z
CATEGORIES:Ski de Rando
DESCRIPTION:Ski de Rando Pelvoux\nCatégorie: Ski de Rando\nLien: https://ww
 w.gumsparis.asso.fr/index.php?option=com_jem&view=event&id=870:ski-de-rand
 o-pelvoux\n
DTSTART;VALUE=DATE:20230204
DTEND;VALUE=DATE:20230206
SUMMARY:Ski de Rando Pelvoux
URL:https://www.gumsparis.asso.fr/index.php?option=com_jem&view=event&id=87
 0:ski-de-rando-pelvoux
END:VEVENT
END:VCALENDAR
