BEGIN:VCALENDAR
VERSION:2.0
PRODID:-//213.186.33.4//NONSGML kigkonsult.se iCalcreator 2.20//
CALSCALE:GREGORIAN
METHOD:PUBLISH
X-WR-TIMEZONE:Europe/Paris
BEGIN:VEVENT
UID:event880@GUMS Paris
DTSTAMP:20260421T094527Z
CATEGORIES:Ski de Rando
DESCRIPTION:Soirée fartage à la perma\nCatégorie: Ski de Rando\nLien: https
 ://www.gumsparis.asso.fr/index.php?option=com_jem&view=event&id=880:soiree
 -fartage-a-la-perma\n
DTSTART;TZID=Europe/Paris:20221129T190000
DTEND;TZID=Europe/Paris:20221129T213000
LOCATION:Perma\,53 rue du Moulin Vert\,75014 Paris
SUMMARY:Soirée fartage à la perma
URL:https://www.gumsparis.asso.fr/index.php?option=com_jem&view=event&id=88
 0:soiree-fartage-a-la-perma
END:VEVENT
END:VCALENDAR
