BEGIN:VCALENDAR
VERSION:2.0
PRODID:-//213.186.33.4//NONSGML kigkonsult.se iCalcreator 2.20//
CALSCALE:GREGORIAN
METHOD:PUBLISH
X-WR-TIMEZONE:Europe/Paris
BEGIN:VEVENT
UID:event884@GUMS Paris
DTSTAMP:20260421T082303Z
CATEGORIES:Ski de Rando
DESCRIPTION:Car-couchettes Champsaur\nCatégorie: Ski de Rando\nLien: https:
 //www.gumsparis.asso.fr/index.php?option=com_jem&view=event&id=884:car-cou
 chette-222\n
DTSTART;VALUE=DATE:20230121
DTEND;VALUE=DATE:20230123
SUMMARY:Car-couchettes Champsaur
URL:https://www.gumsparis.asso.fr/index.php?option=com_jem&view=event&id=88
 4:car-couchette-222
END:VEVENT
END:VCALENDAR
