BEGIN:VCALENDAR
VERSION:2.0
PRODID:-//213.186.33.4//NONSGML kigkonsult.se iCalcreator 2.20//
CALSCALE:GREGORIAN
METHOD:PUBLISH
X-WR-TIMEZONE:Europe/Paris
BEGIN:VEVENT
UID:event887@GUMS Paris
DTSTAMP:20260421T082305Z
CATEGORIES:Ski de Rando
DESCRIPTION:Car-couchettes Valgrisenche\nCatégorie: Ski de Rando\nLien: htt
 ps://www.gumsparis.asso.fr/index.php?option=com_jem&view=event&id=887:car-
 couchette-225\n
DTSTART;VALUE=DATE:20230318
DTEND;VALUE=DATE:20230320
SUMMARY:Car-couchettes Valgrisenche
URL:https://www.gumsparis.asso.fr/index.php?option=com_jem&view=event&id=88
 7:car-couchette-225
END:VEVENT
END:VCALENDAR
