BEGIN:VCALENDAR
VERSION:2.0
PRODID:-//213.186.33.4//NONSGML kigkonsult.se iCalcreator 2.20//
CALSCALE:GREGORIAN
METHOD:PUBLISH
X-WR-TIMEZONE:Europe/Paris
BEGIN:VEVENT
UID:event897@GUMS Paris
DTSTAMP:20260421T082045Z
CATEGORIES:Alpinisme
DESCRIPTION:Stage Cascade de glace\nCatégorie: Alpinisme\nLien: https://www
 .gumsparis.asso.fr/index.php?option=com_jem&view=event&id=897:stage-cascad
 e-de-glace\n
DTSTART;VALUE=DATE:20230203
DTEND;VALUE=DATE:20230207
SUMMARY:Stage Cascade de glace
URL:https://www.gumsparis.asso.fr/index.php?option=com_jem&view=event&id=89
 7:stage-cascade-de-glace
END:VEVENT
END:VCALENDAR
