BEGIN:VCALENDAR
VERSION:2.0
PRODID:-//213.186.33.4//NONSGML kigkonsult.se iCalcreator 2.20//
CALSCALE:GREGORIAN
METHOD:PUBLISH
X-WR-TIMEZONE:Europe/Paris
BEGIN:VEVENT
UID:event900@GUMS Paris
DTSTAMP:20260421T082519Z
CATEGORIES:Alpinisme
DESCRIPTION:Week-end alpinisme féminin\nCatégorie: Alpinisme\nLien: https:/
 /www.gumsparis.asso.fr/index.php?option=com_jem&view=event&id=900:week-end
 -alpinisme-feminin\n
DTSTART;VALUE=DATE:20230304
DTEND;VALUE=DATE:20230306
SUMMARY:Week-end alpinisme féminin
URL:https://www.gumsparis.asso.fr/index.php?option=com_jem&view=event&id=90
 0:week-end-alpinisme-feminin
END:VEVENT
END:VCALENDAR
