BEGIN:VCALENDAR
VERSION:2.0
PRODID:-//213.186.33.4//NONSGML kigkonsult.se iCalcreator 2.20//
CALSCALE:GREGORIAN
METHOD:PUBLISH
X-WR-TIMEZONE:Europe/Paris
BEGIN:VEVENT
UID:event904@GUMS Paris
DTSTAMP:20260421T082629Z
CATEGORIES:Sorties randonnée
DESCRIPTION:Entre Seine et forêt de Sénart\nCatégorie: Sorties randonnée\nL
 ien: https://www.gumsparis.asso.fr/index.php?option=com_jem&view=event&id=
 904:entre-seine-et-foret-de-senart\n
DTSTART;VALUE=DATE:20230122
DTEND;VALUE=DATE:20230123
SUMMARY:Entre Seine et forêt de Sénart
URL:https://www.gumsparis.asso.fr/index.php?option=com_jem&view=event&id=90
 4:entre-seine-et-foret-de-senart
END:VEVENT
END:VCALENDAR
