BEGIN:VCALENDAR
VERSION:2.0
PRODID:-//213.186.33.4//NONSGML kigkonsult.se iCalcreator 2.20//
CALSCALE:GREGORIAN
METHOD:PUBLISH
X-WR-TIMEZONE:Europe/Paris
BEGIN:VEVENT
UID:event908@GUMS Paris
DTSTAMP:20260421T082929Z
CATEGORIES:Sorties randonnée
DESCRIPTION:Bois de Boulogne et riverains.  Auteuil\, Neuilly\, Passy\, c'e
 st de la rando !\nCatégorie: Sorties randonnée\nLien: https://www.gumspari
 s.asso.fr/index.php?option=com_jem&view=event&id=908:bois-de-boulogne-et-r
 iverains-auteuil-neuilly-passy-c-est-de-la-rando\n
DTSTART;VALUE=DATE:20230219
DTEND;VALUE=DATE:20230220
SUMMARY:Bois de Boulogne et riverains.  Auteuil\, Neuilly\, Passy\, c'est d
 e la rando !
URL:https://www.gumsparis.asso.fr/index.php?option=com_jem&view=event&id=90
 8:bois-de-boulogne-et-riverains-auteuil-neuilly-passy-c-est-de-la-rando
END:VEVENT
END:VCALENDAR
