BEGIN:VCALENDAR
VERSION:2.0
PRODID:-//213.186.33.4//NONSGML kigkonsult.se iCalcreator 2.20//
CALSCALE:GREGORIAN
METHOD:PUBLISH
X-WR-TIMEZONE:Europe/Paris
BEGIN:VEVENT
UID:event914@GUMS Paris
DTSTAMP:20260421T082753Z
CATEGORIES:Sorties randonnée
DESCRIPTION:A la recherche de la cuisinière et du chaudron !\nCatégorie: So
 rties randonnée\nLien: https://www.gumsparis.asso.fr/index.php?option=com_
 jem&view=event&id=914:a-la-recherche-de-la-cuisiniere-et-du-chaudron\n
DTSTART;TZID=Europe/Paris:20230514T094500
DTEND;TZID=Europe/Paris:20230514T094500
SUMMARY:A la recherche de la cuisinière et du chaudron !
URL:https://www.gumsparis.asso.fr/index.php?option=com_jem&view=event&id=91
 4:a-la-recherche-de-la-cuisiniere-et-du-chaudron
END:VEVENT
END:VCALENDAR
