BEGIN:VCALENDAR
VERSION:2.0
PRODID:-//213.186.33.4//NONSGML kigkonsult.se iCalcreator 2.20//
CALSCALE:GREGORIAN
METHOD:PUBLISH
X-WR-TIMEZONE:Europe/Paris
BEGIN:VEVENT
UID:event98@GUMS Paris
DTSTAMP:20260421T094611Z
CATEGORIES:Sorties randonnée
DESCRIPTION:Forêt de Fausses Reposes et Etangs de Ville d'Avray\nCatégorie:
  Sorties randonnée\nLien: https://www.gumsparis.asso.fr/index.php?option=c
 om_jem&view=event&id=98:foret-de-fausses-reposes-et-etangs-de-ville-davray
 \n
DTSTART;VALUE=DATE:20110116
DTEND;VALUE=DATE:20110117
SUMMARY:Forêt de Fausses Reposes et Etangs de Ville d'Avray
URL:https://www.gumsparis.asso.fr/index.php?option=com_jem&view=event&id=98
 :foret-de-fausses-reposes-et-etangs-de-ville-davray
END:VEVENT
END:VCALENDAR
