BEGIN:VCALENDAR
VERSION:2.0
PRODID:-//213.186.33.4//NONSGML kigkonsult.se iCalcreator 2.20//
CALSCALE:GREGORIAN
METHOD:PUBLISH
X-WR-TIMEZONE:Europe/Paris
BEGIN:VEVENT
UID:event985@GUMS Paris
DTSTAMP:20260421T082756Z
CATEGORIES:Sorties Falaises
DESCRIPTION:Escalade trad' dans le Palatinat\nCatégorie: Sorties Falaises\n
 Lien: https://www.gumsparis.asso.fr/index.php?option=com_jem&view=event&id
 =985:valle-dell-orco-a-l-ascension-4-jours\n
DTSTART;VALUE=DATE:20250529
DTEND;VALUE=DATE:20250602
SUMMARY:Escalade trad' dans le Palatinat
URL:https://www.gumsparis.asso.fr/index.php?option=com_jem&view=event&id=98
 5:valle-dell-orco-a-l-ascension-4-jours
END:VEVENT
END:VCALENDAR
