BEGIN:VCALENDAR
VERSION:2.0
PRODID:-//213.186.33.4//NONSGML kigkonsult.se iCalcreator 2.20//
CALSCALE:GREGORIAN
METHOD:PUBLISH
X-WR-TIMEZONE:Europe/Paris
BEGIN:VEVENT
UID:event99@GUMS Paris
DTSTAMP:20260421T092221Z
CATEGORIES:Sorties randonnée
DESCRIPTION:Forêt de Saint Germain en Laye\nCatégorie: Sorties randonnée\nL
 ien: https://www.gumsparis.asso.fr/index.php?option=com_jem&view=event&id=
 99:foret-de-saint-germain-en-laye\n
DTSTART;VALUE=DATE:20110206
DTEND;VALUE=DATE:20110207
SUMMARY:Forêt de Saint Germain en Laye
URL:https://www.gumsparis.asso.fr/index.php?option=com_jem&view=event&id=99
 :foret-de-saint-germain-en-laye
END:VEVENT
END:VCALENDAR
