BEGIN:VCALENDAR
VERSION:2.0
PRODID:-//213.186.33.4//NONSGML kigkonsult.se iCalcreator 2.20//
CALSCALE:GREGORIAN
METHOD:PUBLISH
X-WR-TIMEZONE:Europe/Paris
BEGIN:VEVENT
UID:event1002@GUMS Paris
DTSTAMP:20260426T003339Z
CATEGORIES:Ski de Rando
DESCRIPTION:Ski Rando - Apéro soirée lancement saison 2024/2025\nCatégorie:
  Ski de Rando\nLien: https://www.gumsparis.asso.fr/index.php?option=com_je
 m&view=event&id=1002:ski-rando-apero-soiree-lancement-saison-2024-2025\n
DTSTART;TZID=Europe/Paris:20241113T191500
DTEND;TZID=Europe/Paris:20241113T213000
LOCATION:Perma\,53 rue du Moulin vert\,75014 PARIS
SUMMARY:Ski Rando - Apéro soirée lancement saison 2024/2025
URL:https://www.gumsparis.asso.fr/index.php?option=com_jem&view=event&id=10
 02:ski-rando-apero-soiree-lancement-saison-2024-2025
END:VEVENT
END:VCALENDAR
