BEGIN:VCALENDAR
VERSION:2.0
PRODID:-//213.186.33.4//NONSGML kigkonsult.se iCalcreator 2.20//
CALSCALE:GREGORIAN
METHOD:PUBLISH
X-WR-TIMEZONE:Europe/Paris
BEGIN:VEVENT
UID:event901@GUMS Paris
DTSTAMP:20260420T081006Z
CATEGORIES:Vie du Club
DESCRIPTION:Concours de galettes\nCatégorie: Vie du Club\nLien: https://www
 .gumsparis.asso.fr/index.php?option=com_jem&view=event&id=901:concours-de-
 galettes\n
DTSTART;TZID=Europe/Paris:20230126T193000
DTEND;TZID=Europe/Paris:20230126T193000
LOCATION:Perma\,53 rue du Moulin Vert\,75014 Paris
SUMMARY:Concours de galettes
URL:https://www.gumsparis.asso.fr/index.php?option=com_jem&view=event&id=90
 1:concours-de-galettes
END:VEVENT
END:VCALENDAR
