BEGIN:VCALENDAR
VERSION:2.0
PRODID:-//213.186.33.4//NONSGML kigkonsult.se iCalcreator 2.20//
CALSCALE:GREGORIAN
METHOD:PUBLISH
X-WR-TIMEZONE:Europe/Paris
BEGIN:VEVENT
UID:event737@GUMS Paris
DTSTAMP:20260425T170712Z
CATEGORIES:Sorties Fontainebleau
DESCRIPTION:Justice de Chambergeot - Chateauveau\nCatégorie: Sorties Fontai
 nebleau\nLien: https://www.gumsparis.asso.fr/index.php?option=com_jem&view
 =event&id=737:justice-de-chambergeot-chateauveau\n
DTSTART;VALUE=DATE:20240922
DTEND;VALUE=DATE:20240923
SUMMARY:Justice de Chambergeot - Chateauveau
URL:https://www.gumsparis.asso.fr/index.php?option=com_jem&view=event&id=73
 7:justice-de-chambergeot-chateauveau
END:VEVENT
END:VCALENDAR
