BEGIN:VCALENDAR
VERSION:2.0
PRODID:-//213.186.33.4//NONSGML kigkonsult.se iCalcreator 2.20//
CALSCALE:GREGORIAN
METHOD:PUBLISH
X-WR-TIMEZONE:Europe/Paris
BEGIN:VEVENT
UID:event96@GUMS Paris
DTSTAMP:20260420T124857Z
CATEGORIES:Sorties Fontainebleau
DESCRIPTION:Désert d'Apremont\nCatégorie: Sorties Fontainebleau\nLien: http
 s://www.gumsparis.asso.fr/index.php?option=com_jem&view=event&id=96:desert
 -dapremont\n
DTSTART;VALUE=DATE:20241208
DTEND;VALUE=DATE:20241209
SUMMARY:Désert d'Apremont
URL:https://www.gumsparis.asso.fr/index.php?option=com_jem&view=event&id=96
 :desert-dapremont
END:VEVENT
END:VCALENDAR
