BEGIN:VCALENDAR
VERSION:2.0
PRODID:-//213.186.33.4//NONSGML kigkonsult.se iCalcreator 2.20//
CALSCALE:GREGORIAN
METHOD:PUBLISH
X-WR-TIMEZONE:Europe/Paris
BEGIN:VEVENT
UID:event13@GUMS Paris
DTSTAMP:20260420T190746Z
CATEGORIES:Sorties Falaises
DESCRIPTION:Car couchettes Mercantour\nCatégorie: Sorties Falaises\nLien: h
 ttps://www.gumsparis.asso.fr/index.php?option=com_jem&view=event&id=13:car
 -couchettes-mercantour\n
DTSTART;VALUE=DATE:20101111
DTEND;VALUE=DATE:20101115
SUMMARY:Car couchettes Mercantour
URL:https://www.gumsparis.asso.fr/index.php?option=com_jem&view=event&id=13
 :car-couchettes-mercantour
END:VEVENT
END:VCALENDAR
