BEGIN:VCALENDAR
VERSION:2.0
PRODID:-//213.186.33.4//NONSGML kigkonsult.se iCalcreator 2.20//
CALSCALE:GREGORIAN
METHOD:PUBLISH
X-WR-TIMEZONE:Europe/Paris
BEGIN:VEVENT
UID:event295@GUMS Paris
DTSTAMP:20260419T145942Z
CATEGORIES:Vie du Club
DESCRIPTION:Soirée de présentation Mountain Wilderness\nCatégorie: Vie du C
 lub\nLien: https://www.gumsparis.asso.fr/index.php?option=com_jem&view=eve
 nt&id=295:soiree-de-presentation-mountain-wilderness\n
DTSTART;TZID=Europe/Paris:20131024T193000
DTEND;TZID=Europe/Paris:20131024T193000
LOCATION:Forêt de Fontainebleau\,77300 Fontainebleau
SUMMARY:Soirée de présentation Mountain Wilderness
URL:https://www.gumsparis.asso.fr/index.php?option=com_jem&view=event&id=29
 5:soiree-de-presentation-mountain-wilderness
END:VEVENT
END:VCALENDAR
