BEGIN:VCALENDAR
VERSION:2.0
PRODID:-//213.186.33.4//NONSGML kigkonsult.se iCalcreator 2.20//
CALSCALE:GREGORIAN
METHOD:PUBLISH
X-WR-TIMEZONE:Europe/Paris
BEGIN:VEVENT
UID:event546@GUMS Paris
DTSTAMP:20260420T081447Z
CATEGORIES:SAE
DESCRIPTION:Grimpe en salle\nCatégorie: SAE\nLien: https://www.gumsparis.as
 so.fr/index.php?option=com_jem&view=event&id=546:grimpe-en-salle\n
DTSTART;VALUE=DATE:20161015
DTEND;VALUE=DATE:20161016
SUMMARY:Grimpe en salle
URL:https://www.gumsparis.asso.fr/index.php?option=com_jem&view=event&id=54
 6:grimpe-en-salle
END:VEVENT
END:VCALENDAR
