BEGIN:VCALENDAR
VERSION:2.0
PRODID:-//213.186.33.4//NONSGML kigkonsult.se iCalcreator 2.20//
CALSCALE:GREGORIAN
METHOD:PUBLISH
X-WR-TIMEZONE:Europe/Paris
BEGIN:VEVENT
UID:event809@GUMS Paris
DTSTAMP:20260422T154600Z
CATEGORIES:Sorties Falaises
DESCRIPTION:Séjour d'escalade à Finale Ligure\nCatégorie: Sorties Falaises
 \nLien: https://www.gumsparis.asso.fr/index.php?option=com_jem&view=event&
 id=809:sejour-d-escalade-a-finale-ligure\n
DTSTART;VALUE=DATE:20211022
DTEND;VALUE=DATE:20211102
SUMMARY:Séjour d'escalade à Finale Ligure
URL:https://www.gumsparis.asso.fr/index.php?option=com_jem&view=event&id=80
 9:sejour-d-escalade-a-finale-ligure
END:VEVENT
END:VCALENDAR
