BEGIN:VCALENDAR
VERSION:2.0
PRODID:-//213.186.33.4//NONSGML kigkonsult.se iCalcreator 2.20//
CALSCALE:GREGORIAN
METHOD:PUBLISH
X-WR-TIMEZONE:Europe/Paris
BEGIN:VEVENT
UID:event847@GUMS Paris
DTSTAMP:20260420T122809Z
CATEGORIES:Rando sportive
DESCRIPTION:Randonnée Alpine\, Queyras (destination à confirmer)\nCatégorie
 : Rando sportive\nLien: https://www.gumsparis.asso.fr/index.php?option=com
 _jem&view=event&id=847:car-couchette-215\n
DTSTART;VALUE=DATE:20220521
DTEND;VALUE=DATE:20220523
SUMMARY:Randonnée Alpine\, Queyras (destination à confirmer)
URL:https://www.gumsparis.asso.fr/index.php?option=com_jem&view=event&id=84
 7:car-couchette-215
END:VEVENT
END:VCALENDAR
